View In:
ArcGIS JavaScript
ArcGIS Online Map Viewer
ArcGIS Earth
ArcMap
ArcGIS Pro
View Footprint In:
ArcGIS Online Map Viewer
Service Description: Ortofoto interministerial 1977 Murcia y AndalucĂa
Map Name: Capas
Legend
All Layers and Tables
Dynamic Legend
Dynamic All Layers
Layers:
Description:
Service Item Id: cb9aa4d2f2b343e4831b0adc15e0b73d
Copyright Text:
Spatial Reference:
25830
(25830)
Single Fused Map Cache: true
Tile Info:
- Height: 512
- Width: 512
- DPI: 96
-
Levels of Detail: 15
-
Level ID: 0
[ Start Tile, End Tile ]
- Resolution: 4891.969810248921
- Scale: 1.8489297737232E7
- Format: JPEG
- Compression Quality: 75.0
- Origin: X: -5120900.0
Y: 9998100.0
- Spatial Reference: 25830
(25830)
Initial Extent:
XMin: 503012.1467185763
YMin: 4170703.0070634047
XMax: 857606.8325917684
YMax: 4333248.336874305
Spatial Reference: 25830
(25830)
Full Extent:
XMin: 512600
YMin: 4113570
XMax: 746394
YMax: 4336837
Spatial Reference: 25830
(25830)
Units: esriMeters
Supported Image Format Types: PNG32,PNG24,PNG,JPG,DIB,TIFF,EMF,PS,PDF,GIF,SVG,SVGZ,BMP
Document Info:
Title:
Author:
Comments:
Subject:
Category:
Keywords: ortofoto interministerial 1977
AntialiasingMode: None
TextAntialiasingMode: Force
Supports Dynamic Layers: true
Resampling: false
MaxRecordCount: 1000
MaxImageHeight: 4096
MaxImageWidth: 4096
Supported Query Formats: JSON, geoJSON
Supports Query Data Elements:
Min Scale: 1.8489297737232E7
Max Scale: 1128.497176
Supports Datum Transformation: true
Child Resources:
Info
Dynamic Layer
Supported Operations:
Export Map
Identify
QueryDomains
QueryLegends
Find
Return Updates